BEGIN:VCALENDAR
VERSION:2.0
PRODID:-//Knoxville Academy of Nutrition and Dietetics - ECPv6.15.16.1//NONSGML v1.0//EN
CALSCALE:GREGORIAN
METHOD:PUBLISH
X-WR-CALNAME:Knoxville Academy of Nutrition and Dietetics
X-ORIGINAL-URL:https://eatrightknox.org
X-WR-CALDESC:Events for Knoxville Academy of Nutrition and Dietetics
REFRESH-INTERVAL;VALUE=DURATION:PT1H
X-Robots-Tag:noindex
X-PUBLISHED-TTL:PT1H
BEGIN:VTIMEZONE
TZID:America/New_York
BEGIN:DAYLIGHT
TZOFFSETFROM:-0500
TZOFFSETTO:-0400
TZNAME:EDT
DTSTART:20240310T070000
END:DAYLIGHT
BEGIN:STANDARD
TZOFFSETFROM:-0400
TZOFFSETTO:-0500
TZNAME:EST
DTSTART:20241103T060000
END:STANDARD
BEGIN:DAYLIGHT
TZOFFSETFROM:-0500
TZOFFSETTO:-0400
TZNAME:EDT
DTSTART:20250309T070000
END:DAYLIGHT
BEGIN:STANDARD
TZOFFSETFROM:-0400
TZOFFSETTO:-0500
TZNAME:EST
DTSTART:20251102T060000
END:STANDARD
BEGIN:DAYLIGHT
TZOFFSETFROM:-0500
TZOFFSETTO:-0400
TZNAME:EDT
DTSTART:20260308T070000
END:DAYLIGHT
BEGIN:STANDARD
TZOFFSETFROM:-0400
TZOFFSETTO:-0500
TZNAME:EST
DTSTART:20261101T060000
END:STANDARD
END:VTIMEZONE
BEGIN:VEVENT
DTSTART;VALUE=DATE:20250205
DTEND;VALUE=DATE:20250206
DTSTAMP:20260424T213954
CREATED:20240912T160916Z
LAST-MODIFIED:20250109T212923Z
UID:26274-1738713600-1738799999@eatrightknox.org
SUMMARY:Hill Day 2025
DESCRIPTION:Are you prepared to join us and the rest of our TAND colleagues on Capitol Hill in February?! \nCLICK HERE TO REGISTER
URL:https://eatrightknox.org/event/hill-day-2025/
LOCATION:Cordell Hull Building\, 425 John Lewis Way N\, Nashville\, TN\, 37243\, United States
END:VEVENT
END:VCALENDAR